BEGIN:VCALENDAR
VERSION:2.0
METHOD:PUBLISH
CALSCALE:GREGORIAN
BEGIN:VEVENT
SUMMARY;LANGUAGE=sv;ENCODING=8BIT;CHARSET=UTF-8:Nyårsdagen
DTSTART;VALUE=DATE;ENCODING=8BIT;CHARSET=UTF-8:20260101
DURATION:P1D
UID;ENCODING=8BIT;CHARSET=UTF-8:1767265200@sv
END:VEVENT
BEGIN:VEVENT
SUMMARY;LANGUAGE=sv;ENCODING=8BIT;CHARSET=UTF-8:Trettondagen
DTSTART;VALUE=DATE;ENCODING=8BIT;CHARSET=UTF-8:20260106
DURATION:P1D
UID;ENCODING=8BIT;CHARSET=UTF-8:1767697200@sv
END:VEVENT
BEGIN:VEVENT
SUMMARY;LANGUAGE=sv;ENCODING=8BIT;CHARSET=UTF-8:Långfredagen
DTSTART;VALUE=DATE;ENCODING=8BIT;CHARSET=UTF-8:20260403
DURATION:P1D
UID;ENCODING=8BIT;CHARSET=UTF-8:1775210400@sv
END:VEVENT
BEGIN:VEVENT
SUMMARY;LANGUAGE=sv;ENCODING=8BIT;CHARSET=UTF-8:Påskdagen
DTSTART;VALUE=DATE;ENCODING=8BIT;CHARSET=UTF-8:20260405
DURATION:P1D
UID;ENCODING=8BIT;CHARSET=UTF-8:1775383200@sv
END:VEVENT
BEGIN:VEVENT
SUMMARY;LANGUAGE=sv;ENCODING=8BIT;CHARSET=UTF-8:Annandag påsk
DTSTART;VALUE=DATE;ENCODING=8BIT;CHARSET=UTF-8:20260406
DURATION:P1D
UID;ENCODING=8BIT;CHARSET=UTF-8:1775469600@sv
END:VEVENT
BEGIN:VEVENT
SUMMARY;LANGUAGE=sv;ENCODING=8BIT;CHARSET=UTF-8:Första maj
DTSTART;VALUE=DATE;ENCODING=8BIT;CHARSET=UTF-8:20260501
DURATION:P1D
UID;ENCODING=8BIT;CHARSET=UTF-8:1777629600@sv
END:VEVENT
BEGIN:VEVENT
SUMMARY;LANGUAGE=sv;ENCODING=8BIT;CHARSET=UTF-8:Kristi himmelsfärdsdag
DTSTART;VALUE=DATE;ENCODING=8BIT;CHARSET=UTF-8:20260514
DURATION:P1D
UID;ENCODING=8BIT;CHARSET=UTF-8:1778752800@sv
END:VEVENT
BEGIN:VEVENT
SUMMARY;LANGUAGE=sv;ENCODING=8BIT;CHARSET=UTF-8:Sveriges nationaldag och svenska flaggans dag
DTSTART;VALUE=DATE;ENCODING=8BIT;CHARSET=UTF-8:20260606
DURATION:P1D
UID;ENCODING=8BIT;CHARSET=UTF-8:1780740000@sv
END:VEVENT
BEGIN:VEVENT
SUMMARY;LANGUAGE=sv;ENCODING=8BIT;CHARSET=UTF-8:Midsommardagen
DTSTART;VALUE=DATE;ENCODING=8BIT;CHARSET=UTF-8:20260620
DURATION:P1D
UID;ENCODING=8BIT;CHARSET=UTF-8:1781949600@sv
END:VEVENT
BEGIN:VEVENT
SUMMARY;LANGUAGE=sv;ENCODING=8BIT;CHARSET=UTF-8:Alla helgons dag
DTSTART;VALUE=DATE;ENCODING=8BIT;CHARSET=UTF-8:20261031
DURATION:P1D
UID;ENCODING=8BIT;CHARSET=UTF-8:1793444400@sv
END:VEVENT
BEGIN:VEVENT
SUMMARY;LANGUAGE=sv;ENCODING=8BIT;CHARSET=UTF-8:Juldagen
DTSTART;VALUE=DATE;ENCODING=8BIT;CHARSET=UTF-8:20261225
DURATION:P1D
UID;ENCODING=8BIT;CHARSET=UTF-8:1798196400@sv
END:VEVENT
BEGIN:VEVENT
SUMMARY;LANGUAGE=sv;ENCODING=8BIT;CHARSET=UTF-8:Annandag jul
DTSTART;VALUE=DATE;ENCODING=8BIT;CHARSET=UTF-8:20261226
DURATION:P1D
UID;ENCODING=8BIT;CHARSET=UTF-8:1798282800@sv
END:VEVENT
END:VCALENDAR
