BEGIN:VCALENDAR
VERSION:2.0
METHOD:PUBLISH
CALSCALE:GREGORIAN
BEGIN:VEVENT
SUMMARY;LANGUAGE=en;ENCODING=8BIT;CHARSET=UTF-8:New Year Day
DTSTART;VALUE=DATE;ENCODING=8BIT;CHARSET=UTF-8:20260101
DURATION:P1D
UID;ENCODING=8BIT;CHARSET=UTF-8:1767265200@en
END:VEVENT
BEGIN:VEVENT
SUMMARY;LANGUAGE=en;ENCODING=8BIT;CHARSET=UTF-8:Epiphany
DTSTART;VALUE=DATE;ENCODING=8BIT;CHARSET=UTF-8:20260106
DURATION:P1D
UID;ENCODING=8BIT;CHARSET=UTF-8:1767697200@en
END:VEVENT
BEGIN:VEVENT
SUMMARY;LANGUAGE=en;ENCODING=8BIT;CHARSET=UTF-8:Good Friday
DTSTART;VALUE=DATE;ENCODING=8BIT;CHARSET=UTF-8:20260403
DURATION:P1D
UID;ENCODING=8BIT;CHARSET=UTF-8:1775210400@en
END:VEVENT
BEGIN:VEVENT
SUMMARY;LANGUAGE=en;ENCODING=8BIT;CHARSET=UTF-8:Easter Day
DTSTART;VALUE=DATE;ENCODING=8BIT;CHARSET=UTF-8:20260405
DURATION:P1D
UID;ENCODING=8BIT;CHARSET=UTF-8:1775383200@en
END:VEVENT
BEGIN:VEVENT
SUMMARY;LANGUAGE=en;ENCODING=8BIT;CHARSET=UTF-8:Easter Monday
DTSTART;VALUE=DATE;ENCODING=8BIT;CHARSET=UTF-8:20260406
DURATION:P1D
UID;ENCODING=8BIT;CHARSET=UTF-8:1775469600@en
END:VEVENT
BEGIN:VEVENT
SUMMARY;LANGUAGE=en;ENCODING=8BIT;CHARSET=UTF-8:May Day
DTSTART;VALUE=DATE;ENCODING=8BIT;CHARSET=UTF-8:20260501
DURATION:P1D
UID;ENCODING=8BIT;CHARSET=UTF-8:1777629600@en
END:VEVENT
BEGIN:VEVENT
SUMMARY;LANGUAGE=en;ENCODING=8BIT;CHARSET=UTF-8:Ascension Day
DTSTART;VALUE=DATE;ENCODING=8BIT;CHARSET=UTF-8:20260514
DURATION:P1D
UID;ENCODING=8BIT;CHARSET=UTF-8:1778752800@en
END:VEVENT
BEGIN:VEVENT
SUMMARY;LANGUAGE=en;ENCODING=8BIT;CHARSET=UTF-8:Swedish National Day and the Swedish Flag's Day
DTSTART;VALUE=DATE;ENCODING=8BIT;CHARSET=UTF-8:20260606
DURATION:P1D
UID;ENCODING=8BIT;CHARSET=UTF-8:1780740000@en
END:VEVENT
BEGIN:VEVENT
SUMMARY;LANGUAGE=en;ENCODING=8BIT;CHARSET=UTF-8:Midsummer Day
DTSTART;VALUE=DATE;ENCODING=8BIT;CHARSET=UTF-8:20260620
DURATION:P1D
UID;ENCODING=8BIT;CHARSET=UTF-8:1781949600@en
END:VEVENT
BEGIN:VEVENT
SUMMARY;LANGUAGE=en;ENCODING=8BIT;CHARSET=UTF-8:All Saint's Day
DTSTART;VALUE=DATE;ENCODING=8BIT;CHARSET=UTF-8:20261031
DURATION:P1D
UID;ENCODING=8BIT;CHARSET=UTF-8:1793444400@en
END:VEVENT
BEGIN:VEVENT
SUMMARY;LANGUAGE=en;ENCODING=8BIT;CHARSET=UTF-8:Christmas Day
DTSTART;VALUE=DATE;ENCODING=8BIT;CHARSET=UTF-8:20261225
DURATION:P1D
UID;ENCODING=8BIT;CHARSET=UTF-8:1798196400@en
END:VEVENT
BEGIN:VEVENT
SUMMARY;LANGUAGE=en;ENCODING=8BIT;CHARSET=UTF-8:Boxing Day
DTSTART;VALUE=DATE;ENCODING=8BIT;CHARSET=UTF-8:20261226
DURATION:P1D
UID;ENCODING=8BIT;CHARSET=UTF-8:1798282800@en
END:VEVENT
END:VCALENDAR
